BEGIN:VCALENDAR
VERSION:2.0
PRODID:-//Boys &amp; Girls Clubs of Central Minnesota - ECPv6.15.20//NONSGML v1.0//EN
CALSCALE:GREGORIAN
METHOD:PUBLISH
X-ORIGINAL-URL:https://www.bgcmn.org
X-WR-CALDESC:Events for Boys &amp; Girls Clubs of Central Minnesota
REFRESH-INTERVAL;VALUE=DURATION:PT1H
X-Robots-Tag:noindex
X-PUBLISHED-TTL:PT1H
BEGIN:VTIMEZONE
TZID:America/Chicago
BEGIN:DAYLIGHT
TZOFFSETFROM:-0600
TZOFFSETTO:-0500
TZNAME:CDT
DTSTART:20230312T080000
END:DAYLIGHT
BEGIN:STANDARD
TZOFFSETFROM:-0500
TZOFFSETTO:-0600
TZNAME:CST
DTSTART:20231105T070000
END:STANDARD
BEGIN:DAYLIGHT
TZOFFSETFROM:-0600
TZOFFSETTO:-0500
TZNAME:CDT
DTSTART:20240310T080000
END:DAYLIGHT
BEGIN:STANDARD
TZOFFSETFROM:-0500
TZOFFSETTO:-0600
TZNAME:CST
DTSTART:20241103T070000
END:STANDARD
BEGIN:DAYLIGHT
TZOFFSETFROM:-0600
TZOFFSETTO:-0500
TZNAME:CDT
DTSTART:20250309T080000
END:DAYLIGHT
BEGIN:STANDARD
TZOFFSETFROM:-0500
TZOFFSETTO:-0600
TZNAME:CST
DTSTART:20251102T070000
END:STANDARD
END:VTIMEZONE
BEGIN:VEVENT
DTSTART;TZID=America/Chicago:20240610T170000
DTEND;TZID=America/Chicago:20240610T200000
DTSTAMP:20260422T071646
CREATED:20240506T190432Z
LAST-MODIFIED:20240508T215329Z
UID:3797-1718038800-1718049600@www.bgcmn.org
SUMMARY:Dancing with Our Stars Fundraiser for SMART Girls
DESCRIPTION:Brady DeGagne\, Director of Training & Development is representing Boys & Girls Club at Dancing with Our Stars to raise funds for the SMART Girls program.Let’s help Brady win Dancing with Our Stars : https://qrco.de/beqdTF \n\n\n\nThis event is hosted by the Women’s Fund of the Central Minnesota Community Foundation. To learn more about the event\, please visit https://communitygiving.org/wfp24 \n\n\n\n \n\n\n\nSee less
URL:https://www.bgcmn.org/event/dancing-with-our-stars-fundraiser-for-smart-girls/
LOCATION:Minnesota
ATTACH;FMTTYPE=image/png:https://www.bgcmn.org/wp-content/uploads/2024/05/LinkedIn-Post-1024-x-786-banner-1024-x-768-px.png
END:VEVENT
END:VCALENDAR