BEGIN:VCALENDAR
VERSION:2.0
PRODID:-//Boys &amp; Girls Clubs of Central Minnesota - ECPv6.15.20//NONSGML v1.0//EN
CALSCALE:GREGORIAN
METHOD:PUBLISH
X-ORIGINAL-URL:https://www.bgcmn.org
X-WR-CALDESC:Events for Boys &amp; Girls Clubs of Central Minnesota
REFRESH-INTERVAL;VALUE=DURATION:PT1H
X-Robots-Tag:noindex
X-PUBLISHED-TTL:PT1H
BEGIN:VTIMEZONE
TZID:America/Chicago
BEGIN:DAYLIGHT
TZOFFSETFROM:-0600
TZOFFSETTO:-0500
TZNAME:CDT
DTSTART:20210314T080000
END:DAYLIGHT
BEGIN:STANDARD
TZOFFSETFROM:-0500
TZOFFSETTO:-0600
TZNAME:CST
DTSTART:20211107T070000
END:STANDARD
BEGIN:DAYLIGHT
TZOFFSETFROM:-0600
TZOFFSETTO:-0500
TZNAME:CDT
DTSTART:20220313T080000
END:DAYLIGHT
BEGIN:STANDARD
TZOFFSETFROM:-0500
TZOFFSETTO:-0600
TZNAME:CST
DTSTART:20221106T070000
END:STANDARD
BEGIN:DAYLIGHT
TZOFFSETFROM:-0600
TZOFFSETTO:-0500
TZNAME:CDT
DTSTART:20230312T080000
END:DAYLIGHT
BEGIN:STANDARD
TZOFFSETFROM:-0500
TZOFFSETTO:-0600
TZNAME:CST
DTSTART:20231105T070000
END:STANDARD
END:VTIMEZONE
BEGIN:VEVENT
DTSTART;TZID=America/Chicago:20220804T173000
DTEND;TZID=America/Chicago:20220804T203000
DTSTAMP:20260421T123308
CREATED:20250306T200400Z
LAST-MODIFIED:20251119T155440Z
UID:81-1659634200-1659645000@www.bgcmn.org
SUMMARY:Summer Benefit
DESCRIPTION:Grease is the Word! \n\n\n\nJuly 30\, 2026River’s Edge Convention Center5:00 – 8:00 p.m. \n\n\n\nYou’re the One That We Want… at the Boys & Girls Club’s 2026 Summer Benefit! \n\n\n\nGet ready to hand-jive the night away\, because on Thursday\, July 30\, 2026\, the Boys & Girls Clubs of Central Minnesota will rev up the engines and take you back to Rydell High for our Grease-themed Summer Benefit! \n\n\n\nWe’ll be cruisin’ together for an evening full of fun\, friendship\, and fundraising to support the Club’s mission of helping kids and teens discover who they are\, build respect\, and use their creative voices. Just like Sandy and Danny\, our youth are finding their place in the world—learning to dream big and shine bright. \n\n\n\nSlip on your leather jacket or poodle skirt\, and join us for a night that’s sure to have you saying\, “Oh\, those summer nights!” From a strolling buffet and sampling spirits to shopping our silent auction\, every moment will help fuel the future of the next generation. \n\n\n\nBecause when you support the Boys & Girls Club\, you’re not just having a blast—you’re helping local kids say\, “We go together\, like rama lama lama ka dinga da dinga dong!” \n\n\n\nSo grab your pink ladies\, your T-Birds\, and your dancing shoes. Let’s Grease Lightning our way toward building GREAT FUTURES! \n\n\n\n \n\n\n\n\nClick here to become a sponsor\n\n\n\n\n\nGet tickets!\n\n\n\n\nTickets: $100 per individual or $150 per couple \n\n\n\nInterested in supporting our event by becoming a food vendor or by donating an item to our auction? Email us at club@bgcmn.org! \n\n\n\n\n\n\n\nCheck out photos & video to learn more about the Summer Benefit!\n\n\n\n\n\n\n\n\n\n\n\n\n\n\n\n\n\n\n\n\n\n\n\n\n\n\n\n\n\n\n\n\n\n\n\n\n\n\n\n\n\n\n\n\n\n\n\n\n\n\n\n\n\n\n\n\n\n\n\n\n\n\n\nFund the Need!\n\n\n\n\nFund the need to build great futures for youth!  \n\n\n\n\n\n$0 Raised\n$0 Raised\nGoal: $25\,000\n\n\n\n\n\nClick here to fund the need!\n\n\n\n\n\n\n\n\n\n\n\n\nclick here to view the auction list\n\n\n\n\n\n\n\n\n\n\n\n\n\n\n\n\n2025 Sponsors\n\n\n\nPremier Sponsor\n\n\n\n\n\n\n\n\n\n\n\n\n\n\n\nEvent Sponsors\n\n\n\n\n\n\n\n\n\n\n\n\n\n\n\n\n\n\n\n\n\n\n\n\n\n\n\n\n\n\n\n\n\n\n\n\n\n\n\n\n\n\n\n\n\n\n\n\n\n\n\n\n\n\n\n\n\n\n\n\n\n\n\n\n\n\n\n\n\n\n\n\n\n\n\n\n\n\n\n\n\n\n\n\n\n\n\n\n\n\n\n\n\n\n\n\n\n\n\n\n\n\n\n\n\n\n\n\n\n\n\n\n\n\n\n\n\n\n\n\n\n\n\n\n\n\n\n\n\n\n\n\n\nCorporate Sponsors\n\n\n\n\n\n\n\n\n\n\n\n\n\n\n\n\n\n\n\n\n\n\n\n\n\n\n\n\n\n\n\n\n\n\n\n\n\n\n\n\n\n\n\n\n\n\n\n\n\n\n\n\n\n\n\n\n\n\n\n\n\n\n\n\n\n\n\n\n\n\n\n\n\n\n\n\n\n\n\n\n\n\n\n\n\n\n\n\n\n\n\n\n\n\n\n\n\n\n\n\n\n\n\n\n\n\n\n\n\n\n\n\n\n\n\n\n\n\n\n\n\n\n\n\n\n\n\n\n\n\n\n\n\n\n\n\n\n\n\n\n\n\n\n\n\n\n\n\n\n\n\n\n\n\n\n\n\n\n\n\n\n\n\n\n\n\n\n\n\n\n\n\n\n\n\n\n\n\n\n\n\n\n\n\n\n\n\n\n\n\n\n\n\n\n\n\n\n\n\n\n\n\n\n\n\n\n\n\n\n\n\n\n\n\n\n\n\n\n\n\nDick\, Mimi & Erin Bitzan\n\n\n\n\n\n\n\n\n\n\n\n\n\n\n\n\n\n\n\n\n\n\n\n\n\n\n\n\n\nTony & Joyce Tillemans\n\n\n\n\n\n\n\n\n\n\n\n\n\n\n\n\n\n\n\n\n\n\n\n\n\n\n\n\n\n\n\n\n\n\n\n\n\n\n\n\n\n\n\n\n\n\n\n\n\n\n\n\n\n\n\n\n\n\n\n\n\n\n\n\n\n\n\n\n\n\n\n\n\n\n\n\n\n\n\n\n\n\n\n\n\n\n\n\n\n\n\n\n\n\n\n\n\n\n\n\n\nJohn Hoffman & Cristina Gantinao\n\n\n\n\n\n\n\n\n\n\n\n\n\n\n\n\n\n\n\n\n\n\n\n\n\n\n\n\n\n\n\n\n\n\n\n\n\n\n\n\n\n\n\n\n\n\n\n\n\n\n\n\n\n\n\n\n\n\n\n\n\n\n\n\n\n\n\n\n\n\n\n\n\n\n\n\n\n\n\n\n\n\n\n\n\n\n\n\n\n\n\n\n\n\n\n\n\n\n\n\n\n\n\n\n\n\n\n\n\n\n\n\n\n\n\n\n\n\n\n\n\n\n\n\n\n\n\n\n\n\n\n\n\n\n\n\nFood & Beverage Samplers \n\n\n\n\n\n\n\n\n\n\nFood Vendors:Coborn’s CateringCreative CateringCustom Catering by Short StopGood Earth Food Co-OpGranite City Food & BreweryGreat Harvest Bread CompanyHouse of PizzaLunds & ByerlysMexican VillageNelson Bros. Cutting Edge CateringSt. Cloud Country ClubTexas RoadhouseUp In Smoke BBQUpper Lakes FoodsBeverages:Bernick’sC & L DistributingCoborn’s LiquorPantown Brewing CompanyViking Coca-ColaLinens:Cintas\n\n\n\n\n\n\n\n\n\n\nHere’s what our sponsors have to say!\n\n\n\n\n\n\n\nPCI\, Inc.Steve & Greg Windfeldt\n\n\n\n\n\n\n\nMcDowall CompanyJohn & Matt McDowall\n\n\n\n\n\n\n\nAuto Value Parts StoresCorey Bartlett
URL:https://www.bgcmn.org/event/summer-benefit/
LOCATION:Virtual – live-streamed event\, MN\, 56301\, United States
CATEGORIES:Summer Benefit
END:VEVENT
END:VCALENDAR