BEGIN:VCALENDAR
VERSION:2.0
PRODID:-//Boys &amp; Girls Clubs of Central Minnesota - ECPv6.15.20//NONSGML v1.0//EN
CALSCALE:GREGORIAN
METHOD:PUBLISH
X-WR-CALNAME:Boys &amp; Girls Clubs of Central Minnesota
X-ORIGINAL-URL:https://www.bgcmn.org
X-WR-CALDESC:Events for Boys &amp; Girls Clubs of Central Minnesota
REFRESH-INTERVAL;VALUE=DURATION:PT1H
X-Robots-Tag:noindex
X-PUBLISHED-TTL:PT1H
BEGIN:VTIMEZONE
TZID:America/Chicago
BEGIN:DAYLIGHT
TZOFFSETFROM:-0600
TZOFFSETTO:-0500
TZNAME:CDT
DTSTART:20230312T080000
END:DAYLIGHT
BEGIN:STANDARD
TZOFFSETFROM:-0500
TZOFFSETTO:-0600
TZNAME:CST
DTSTART:20231105T070000
END:STANDARD
BEGIN:DAYLIGHT
TZOFFSETFROM:-0600
TZOFFSETTO:-0500
TZNAME:CDT
DTSTART:20240310T080000
END:DAYLIGHT
BEGIN:STANDARD
TZOFFSETFROM:-0500
TZOFFSETTO:-0600
TZNAME:CST
DTSTART:20241103T070000
END:STANDARD
BEGIN:DAYLIGHT
TZOFFSETFROM:-0600
TZOFFSETTO:-0500
TZNAME:CDT
DTSTART:20250309T080000
END:DAYLIGHT
BEGIN:STANDARD
TZOFFSETFROM:-0500
TZOFFSETTO:-0600
TZNAME:CST
DTSTART:20251102T070000
END:STANDARD
END:VTIMEZONE
BEGIN:VEVENT
DTSTART;TZID=America/Chicago:20240423T160000
DTEND;TZID=America/Chicago:20240423T170000
DTSTAMP:20260419T153526
CREATED:20240209T174342Z
LAST-MODIFIED:20240209T174344Z
UID:3689-1713888000-1713891600@www.bgcmn.org
SUMMARY:Grand Opening of Southside's Best Buy Teen Tech Center
DESCRIPTION:Please join us for the Grand Opening of Southside Boys & Girls Club’s Best Buy Teen Technology Center! \n\n\n\n\n\n\n\nExpect the following: \n\n\n\n\nTours of the new facility\n\n\n\nOpportunities to try state-of-the-art technology\n\n\n\nTeens will showcase completed projects\n\n\n\nBrief ribbon-cutting event at 4:30 p.m.\n\n\n\nAppetizers\n\n\n\n\nNo RSVP required! \n\n\n\nFor more information about the Best Buy Teen Technology Center\, click here.
URL:https://www.bgcmn.org/event/grand-opening-of-southsides-best-buy-teen-tech-center/
LOCATION:Minnesota
END:VEVENT
END:VCALENDAR